BEGIN:VCALENDAR
VERSION:2.0
PRODID:-//wp-events-plugin.com//7.0.5//EN
BEGIN:VEVENT
UID:25@boseprofessional.com
DTSTART;VALUE=DATE:20250424
DTEND;VALUE=DATE:20250425
DTSTAMP:20250416T204254Z
URL:https://boseprofessional.com/events/master-class-design-and-commission
 ing-florianopolis-2
SUMMARY:Master Class: Design and Commissioning – Florianopolis
DESCRIPTION:Entrenamiento de productos y aplicaciones Bose Professional\, i
 ncluyendo conceptos de diseño y programación.\n\nFor further information
 \, please contact lina.villa@boseprofessional.com\n\nLocation:Florianopoli
 s Brazil\nRegister Here
ATTACH;FMTTYPE=image/jpeg:https://assets.boseprofessional.com/transform/5e
 37851f-d0a2-4544-98f4-d7d593f1cea7/i-P-Logo-ProOn
END:VEVENT
END:VCALENDAR