BEGIN:VCALENDAR
VERSION:2.0
PRODID:-//wp-events-plugin.com//7.0.5//EN
BEGIN:VEVENT
UID:19@boseprofessional.com
DTSTART;VALUE=DATE:20250409
DTEND;VALUE=DATE:20250411
DTSTAMP:20250402T184643Z
URL:https://boseprofessional.com/events/expo-syscom
SUMMARY:Expo Syscom
DESCRIPTION:La Exposición de Tecnologías para Empresas Integradoras Más
  Grande de México\nLocation: Av. del Conscripto 311\, Lomas de Sotelo\, 
 Hipódromo de las Américas\, Miguel Hidalgo\, 11610 Ciudad de México\, C
 DMX\, Mexico\nRegister Here
ATTACH;FMTTYPE=image/jpeg:https://assets.boseprofessional.com/transform/cd
 680e88-307c-406d-bf57-5e58e3cdc269/syscom
END:VEVENT
END:VCALENDAR