BEGIN:VCALENDAR
VERSION:2.0
PRODID:-//wp-events-plugin.com//7.0.5//EN
BEGIN:VEVENT
UID:13@boseprofessional.com
DTSTART;VALUE=DATE:20250422
DTEND;VALUE=DATE:20250424
DTSTAMP:20250401T151735Z
URL:https://boseprofessional.com/events/avi-systems-national-sales-meeting
 -dallas
SUMMARY:AVI Systems National Sales Meeting - Dallas
DESCRIPTION:We'll be there with "The Beast"\, a self-contained portable boo
 th showcasing Bose Professional’s audio\, video and control technologies
 . See\, hear and experience!\n\nLocation: Gaylord Texan Resort &amp\; Con
 vention Center\n\n&nbsp\;
ATTACH;FMTTYPE=image/jpeg:https://assets.boseprofessional.com/transform/41
 08c264-1007-418e-87aa-ec94d63e631f/Untitled-1
LOCATION:GAYLORD TEXAN RESORT & CONVENTION CENTER\, 1501 Gaylord Trail\, Gr
 apevine\, Texas\, 76051\, United States
X-APPLE-STRUCTURED-LOCATION;VALUE=URI;X-ADDRESS=1501 Gaylord Trail\, Grapev
 ine\, Texas\, 76051\, United States;X-APPLE-RADIUS=100;X-TITLE=GAYLORD TEX
 AN RESORT & CONVENTION CENTER:geo:0,0
END:VEVENT
END:VCALENDAR