BEGIN:VCALENDAR
VERSION:2.0
PRODID:-//wp-events-plugin.com//7.0.5//EN
BEGIN:VEVENT
UID:21@boseprofessional.com
DTSTART;VALUE=DATE:20250423
DTEND;VALUE=DATE:20250424
DTSTAMP:20250403T191428Z
URL:https://boseprofessional.com/events/amplify-the-future-florianopolis
SUMMARY:Amplify The Future – Florianopolis
DESCRIPTION:Demostración en vivo de la línea de productos de Bose Profess
 ional!\n\nHosted by ProOn Group \n\nLocation: Florianopolis Brazil\nFor 
 further information\, please contact lina.villa@boseprofessional.com\n&nbs
 p\;
ATTACH;FMTTYPE=image/jpeg:https://assets.boseprofessional.com/transform/5e
 37851f-d0a2-4544-98f4-d7d593f1cea7/i-P-Logo-ProOn
END:VEVENT
END:VCALENDAR