BEGIN:VCALENDAR
VERSION:2.0
PRODID:-//wp-events-plugin.com//7.0.5//EN
BEGIN:VEVENT
UID:16@boseprofessional.com
DTSTART;VALUE=DATE:20250508
DTEND;VALUE=DATE:20250509
DTSTAMP:20250402T182603Z
URL:https://boseprofessional.com/events/adi-chicago-expo-2
SUMMARY:ADI Chicago Expo
DESCRIPTION:Don’t miss the opportunity to engage with us and explore new 
 audio possibilities for your business!\n\nLocation: Drury Lane Theatre &am
 p\; Events - Chicago\, IL\nRegister Here
ATTACH;FMTTYPE=image/jpeg:https://assets.boseprofessional.com/transform/cb
 254280-8d1b-4370-8604-74e392f1551a/Untitled-1
LOCATION:Drury Lane Theatre & Events\, 100 Drury Lane\, Oakbrook Terrace\, 
 Illinois\, 60181\, United States
X-APPLE-STRUCTURED-LOCATION;VALUE=URI;X-ADDRESS=100 Drury Lane\, Oakbrook T
 errace\, Illinois\, 60181\, United States;X-APPLE-RADIUS=100;X-TITLE=Drury
  Lane Theatre & Events:geo:0,0
END:VEVENT
END:VCALENDAR